BEGIN:VCALENDAR
VERSION:2.0
PRODID:-//Olympia Chapter - ECPv5.5.0.1//NONSGML v1.0//EN
CALSCALE:GREGORIAN
METHOD:PUBLISH
X-WR-CALNAME:Olympia Chapter
X-ORIGINAL-URL:https://olympia.surfrider.org
X-WR-CALDESC:Events for Olympia Chapter
BEGIN:VTIMEZONE
TZID:UTC
BEGIN:STANDARD
TZOFFSETFROM:+0000
TZOFFSETTO:+0000
TZNAME:UTC
DTSTART:20190101T000000
END:STANDARD
END:VTIMEZONE
BEGIN:VEVENT
DTSTART;TZID=UTC:20190821T173000
DTEND;TZID=UTC:20190821T193000
DTSTAMP:20210507T134920
CREATED:20190731T110019Z
LAST-MODIFIED:20190821T105950Z
UID:1166-1566408600-1566415800@olympia.surfrider.org
SUMMARY:Social Paddle @ Boston Harbor
DESCRIPTION:Summer is in full swing\, and we invite you to come enjoy it with us on the water Wednesday\, August 21st at Boston Harbor starting at 5:30 pm. Bring a kayak or SUP or rent one at the marina and join us for an evening paddle. First two SUP rentals are on us! If the weather takes a turn\, we’ll still be hanging out at the marina! But really\, will a little rain stop us Washingtonians from having our fun?
URL:https://olympia.surfrider.org/index.php/event/social-paddle-boston-harbor/
LOCATION:Boston Harbor Marina\, 312 73rd Ave NE\, Olympia\, WA\, 98506\, United States
ORGANIZER;CN="Olympia%20Surfrider":MAILTO:olysurfrider@gmail.com
END:VEVENT
END:VCALENDAR