BEGIN:VCALENDAR
VERSION:2.0
PRODID:-//Olympia Chapter - ECPv5.5.0.1//NONSGML v1.0//EN
CALSCALE:GREGORIAN
METHOD:PUBLISH
X-WR-CALNAME:Olympia Chapter
X-ORIGINAL-URL:https://olympia.surfrider.org
X-WR-CALDESC:Events for Olympia Chapter
BEGIN:VTIMEZONE
TZID:America/Los_Angeles
BEGIN:DAYLIGHT
TZOFFSETFROM:-0800
TZOFFSETTO:-0700
TZNAME:PDT
DTSTART:20210314T100000
END:DAYLIGHT
BEGIN:STANDARD
TZOFFSETFROM:-0700
TZOFFSETTO:-0800
TZNAME:PST
DTSTART:20211107T090000
END:STANDARD
END:VTIMEZONE
BEGIN:VEVENT
DTSTART;TZID=America/Los_Angeles:20210321T120000
DTEND;TZID=America/Los_Angeles:20210321T133000
DTSTAMP:20210426T125938
CREATED:20210315T201707Z
LAST-MODIFIED:20210315T202510Z
UID:1911-1616328000-1616333400@olympia.surfrider.org
SUMMARY:World Water Day Downtown Butt Pickup
DESCRIPTION:March 22 is World Water Day. Come celebrate clean water with us by picking up cigarette butts in downtown Olympia on Sunday\, March 21 from noon to 1:30 p.m. Meet us on the steps of City Hall where you and members of your household can independently continue to help support clean oceans by picking up cigarette butts (and other litter). \nSurfrider will provide pickers\, buckets and gloves for those who need them. Due to limited supplies\, we encourage you to bring your own gloves and hand sanitizer. \nWe ask that all participants follow Surfrider’s safe recreation guidelines and wear face masks.
URL:https://olympia.surfrider.org/index.php/event/world-water-day-downtown-butt-pickup/
CATEGORIES:Cleanup
END:VEVENT
END:VCALENDAR