BEGIN:VCALENDAR
VERSION:2.0
PRODID:-//Olympia Chapter - ECPv5.8.0//NONSGML v1.0//EN
CALSCALE:GREGORIAN
METHOD:PUBLISH
X-WR-CALNAME:Olympia Chapter
X-ORIGINAL-URL:https://olympia.surfrider.org
X-WR-CALDESC:Events for Olympia Chapter
BEGIN:VTIMEZONE
TZID:UTC
BEGIN:STANDARD
TZOFFSETFROM:+0000
TZOFFSETTO:+0000
TZNAME:UTC
DTSTART:20200101T000000
END:STANDARD
END:VTIMEZONE
BEGIN:VEVENT
DTSTART;TZID=UTC:20200322T120000
DTEND;TZID=UTC:20200322T133000
DTSTAMP:20211013T083510
CREATED:20200126T060015Z
LAST-MODIFIED:20200315T045759Z
UID:1401-1584878400-1584883800@olympia.surfrider.org
SUMMARY:POSTPONED World Water Day butt pick up
DESCRIPTION:Due to the increasing need for social distancing\, we are postponing this cleanup event until further notice. Please keep an eye out for continuing changes to our scheduled Events! \nHere at Surfrider\, every day is Water Day! But World Water Day is a chance for the global community to advocate for the stewardship and protection of our freshwater resources. We’ll be celebrating by roving the streets of downtown Olympia for our first Butt Pickup of 2020\, intercepting and disposing of thousands of cigarette butts before they have a chance to contaminate our waterways.  \nWe’ll meet on the steps of City Hall at noon to pass out gloves\, buckets\, and pickers (cuz those butts is nasty!). As always\, feel free to BYO-Gloves. We’ll reconvene at 1:30 p.m. to weigh our haul and pose for a photo or two. Then maybe we’ll wander over to Batdorf & Bronson for a rewarding Ocean Friendly beverage!
URL:https://olympia.surfrider.org/index.php/event/world-water-day/
LOCATION:City Hall\, 601 4th Ave E\, Olympia\, WA\, 98501\, United States
CATEGORIES:Cleanup
END:VEVENT
END:VCALENDAR