BEGIN:VCALENDAR
VERSION:2.0
PRODID:-//Olympia Chapter - ECPv5.5.0.1//NONSGML v1.0//EN
CALSCALE:GREGORIAN
METHOD:PUBLISH
X-WR-CALNAME:Olympia Chapter
X-ORIGINAL-URL:https://olympia.surfrider.org
X-WR-CALDESC:Events for Olympia Chapter
BEGIN:VTIMEZONE
TZID:UTC
BEGIN:STANDARD
TZOFFSETFROM:+0000
TZOFFSETTO:+0000
TZNAME:UTC
DTSTART:20200101T000000
END:STANDARD
END:VTIMEZONE
BEGIN:VEVENT
DTSTART;TZID=UTC:20200920T090000
DTEND;TZID=UTC:20200920T120000
DTSTAMP:20210507T135126
CREATED:20200126T055406Z
LAST-MODIFIED:20200914T040242Z
UID:1397-1600592400-1600603200@olympia.surfrider.org
SUMMARY:International Coastal Cleanup Day
DESCRIPTION:This year we are celebrating International Coastal Clean Up for the whole month! During September (and always) we encourage solo clean ups in your local neighborhood\, parks\, lakes\, and rivers. \nOn Saturday\, September 19th from 9:00 a.m. to 12:00 p.m.\, our Vice Chair Jill will be with Washington CoastSavers to help participants at Twin Harbors State Park. Please register for this event here. Don’t forget to bring a mask and gloves! \nFeeling creative? Check out Surfrider’s Found Objects contest and show us what you’ve found! \nFeeling hardcore? Fill out a Beach Cleanup Data Card listing everything you’ve collected and email it to us so we can track those data with our Beach Cleanup Tool – the information you collect is critical in our fight against plastic pollution. \nIf doing a solo clean up\, please read our solo clean up health and safety guidelines here\, and don’t forget to #RecreateResponsibly!
URL:https://olympia.surfrider.org/index.php/event/international-coastal-cleanup-day-2/
LOCATION:Twin Harbors State Park\, 3120 Schafer Island Beach App\, Westport\, WA\, 98595\, United States
CATEGORIES:Cleanup
END:VEVENT
END:VCALENDAR