BEGIN:VCALENDAR
VERSION:2.0
PRODID:-//Olympia Chapter - ECPv5.5.0.1//NONSGML v1.0//EN
CALSCALE:GREGORIAN
METHOD:PUBLISH
X-WR-CALNAME:Olympia Chapter
X-ORIGINAL-URL:https://olympia.surfrider.org
X-WR-CALDESC:Events for Olympia Chapter
BEGIN:VTIMEZONE
TZID:UTC
BEGIN:STANDARD
TZOFFSETFROM:+0000
TZOFFSETTO:+0000
TZNAME:UTC
DTSTART:20200101T000000
END:STANDARD
END:VTIMEZONE
BEGIN:VEVENT
DTSTART;TZID=UTC:20200730T183000
DTEND;TZID=UTC:20200730T203000
DTSTAMP:20210509T044522
CREATED:20200302T221814Z
LAST-MODIFIED:20200718T024815Z
UID:1483-1596133800-1596141000@olympia.surfrider.org
SUMMARY:Chapter Meeting - White Wash screening & panel discussion
DESCRIPTION:For our July chapter meeting\, Cascadia Surfrider chapters are collaborating to host a screening and panel discussion of the documentary White Wash on Thursday\, July 30th at 6:30 p.m.\n\nWhite Wash is a documentary produced by Air Copeland. The film explores the complexity of race in America through the eyes of the ocean. It examines the history of “black consciousness” as it triumphs and evolves into the minds of black surfers. The story is narrated by Ben Harper and Tariq “Blackthought” Trotter.\n\nTo sign up for this event\, please fill out this Google Form at https://docs.google.com/forms/d/e/1FAIpQLSe-BmD9NamrCR-cFAEN2Zhx41SC8-QvuWekaJJb6EOnua6pLw/viewform\n\nThis event will serve as Olympia Surfrider’s July chapter meeting.
URL:https://olympia.surfrider.org/index.php/event/chapter-meeting-8/
CATEGORIES:Chapter Meeting
ATTACH;FMTTYPE=image/jpeg:https://olympia.surfrider.org/wp-content/uploads/2020/03/108302751_2740253129576781_8564887316106989958_n.jpg
ORGANIZER;CN="Olympia%20Surfrider":MAILTO:olysurfrider@gmail.com
END:VEVENT
END:VCALENDAR